BEGIN:VCALENDAR
VERSION:2.0
PRODID:-//Squarespace Inc/Squarespace 6//v6//EN
BEGIN:VEVENT
UID:51b2b445e4b08f55af4fd212@squarespace.com
DTSTAMP:20130608T043437Z
DTSTART:20130730T063000Z
DTEND:20130730T080000Z
SUMMARY:Yoga
END:VEVENT
END:VCALENDAR
