BEGIN:VCALENDAR
VERSION:2.0
PRODID:-//Squarespace Inc/Squarespace 6//v6//EN
BEGIN:VEVENT
UID:51cc00dae4b06b9ce7a63401@squarespace.com
DTSTAMP:20130627T092331Z
DTSTART:20130705T070000Z
DTEND:20130705T090000Z
SUMMARY:R&R meeting
END:VEVENT
END:VCALENDAR
