BEGIN:VCALENDAR
VERSION:2.0
PRODID:-//Squarespace Inc/Squarespace 6//v6//EN
BEGIN:VEVENT
UID:51b2b5b7e4b070ccb316ce38@squarespace.com
DTSTAMP:20130610T093323Z
DTSTART:20130706T223000Z
DTEND:20130707T000000Z
SUMMARY:Yoga
END:VEVENT
END:VCALENDAR
