BEGIN:VCALENDAR
VERSION:2.0
PRODID:-//Squarespace Inc/Squarespace 6//v6//EN
BEGIN:VEVENT
UID:51b19c75e4b097e29e1975eb@squarespace.com
DTSTAMP:20130713T010412Z
DTSTART:20130709T063000Z
DTEND:20130709T080000Z
SUMMARY:Yoga
END:VEVENT
END:VCALENDAR
