BEGIN:VCALENDAR
VERSION:2.0
PRODID:-//Squarespace Inc/Squarespace 6//v6//EN
BEGIN:VEVENT
UID:51e0abf6e4b029481563e96a@squarespace.com
DTSTAMP:20130713T012349Z
DTSTART:20130810T223000Z
DTEND:20130811T000000Z
SUMMARY:Yoga
END:VEVENT
END:VCALENDAR
