BEGIN:VCALENDAR
VERSION:2.0
PRODID:-//Squarespace Inc/Squarespace 6//v6//EN
BEGIN:VEVENT
UID:51e0a812e4b057ead5afa74b@squarespace.com
DTSTAMP:20130713T010648Z
DTSTART:20130813T063000Z
DTEND:20130813T080000Z
SUMMARY:Yoga
END:VEVENT
END:VCALENDAR
