BEGIN:VCALENDAR
VERSION:2.0
PRODID:-//Squarespace Inc/Squarespace 6//v6//EN
BEGIN:VEVENT
UID:51e0ac34e4b0aa3bc1facd67@squarespace.com
DTSTAMP:20130713T012453Z
DTSTART:20130817T223000Z
DTEND:20130818T000000Z
SUMMARY:Yoga
END:VEVENT
END:VCALENDAR
