BEGIN:VCALENDAR
VERSION:2.0
PRODID:-//Squarespace Inc/Squarespace 6//v6//EN
BEGIN:VEVENT
UID:51e0a717e4b09140da99c356@squarespace.com
DTSTAMP:20130713T010353Z
DTSTART:20130802T070000Z
DTEND:20130802T090000Z
SUMMARY:R & R meeting
END:VEVENT
END:VCALENDAR
