BEGIN:VCALENDAR
VERSION:2.0
PRODID:-//Squarespace Inc/Squarespace 6//v6//EN
BEGIN:VEVENT
UID:51e0a838e4b0c483a83ea4bd@squarespace.com
DTSTAMP:20130713T010737Z
DTSTART:20130820T063000Z
DTEND:20130820T080000Z
SUMMARY:Yoga
END:VEVENT
END:VCALENDAR
