BEGIN:VCALENDAR
VERSION:2.0
PRODID:-//Squarespace Inc/Squarespace 6//v6//EN
BEGIN:VEVENT
UID:51a3d5eae4b040da1a8597fa@squarespace.com
DTSTAMP:20130527T215610Z
DTSTART:20130822T220000Z
DTEND:20130825T040000Z
SUMMARY:Yoga Workshop
END:VEVENT
END:VCALENDAR
