BEGIN:VCALENDAR
VERSION:2.0
PRODID:-//Squarespace Inc/Squarespace 6//v6//EN
BEGIN:VEVENT
UID:51e0a87fe4b081a7cef4f268@squarespace.com
DTSTAMP:20130713T010837Z
DTSTART:20130827T063000Z
DTEND:20130827T080000Z
SUMMARY:Yoga
END:VEVENT
END:VCALENDAR
