BEGIN:VCALENDAR
VERSION:2.0
PRODID:-//Squarespace Inc/Squarespace 6//v6//EN
BEGIN:VEVENT
UID:51e0abade4b010ec4677b1da@squarespace.com
DTSTAMP:20130713T012247Z
DTSTART:20130803T223000Z
DTEND:20130804T000000Z
SUMMARY:Yoga
END:VEVENT
END:VCALENDAR
