BEGIN:VCALENDAR
VERSION:2.0
PRODID:-//Squarespace Inc/Squarespace 6//v6//EN
BEGIN:VEVENT
UID:51e0a7c1e4b001f1c47338c3@squarespace.com
DTSTAMP:20130713T010607Z
DTSTART:20130806T063000Z
DTEND:20130806T080000Z
SUMMARY:Yoga
END:VEVENT
END:VCALENDAR
