BEGIN:VCALENDAR
VERSION:2.0
PRODID:-//Squarespace Inc/Squarespace 6//v6//EN
BEGIN:VEVENT
UID:5215dbdee4b0599c5a7f689c@squarespace.com
DTSTAMP:20130822T093901Z
DTSTART:20130831T223000Z
DTEND:20130901T000000Z
SUMMARY:Yoga
END:VEVENT
END:VCALENDAR
