BEGIN:VCALENDAR
VERSION:2.0
PRODID:-//Squarespace Inc/Squarespace 6//v6//EN
BEGIN:VEVENT
UID:5215dd44e4b0af0a3135511a@squarespace.com
DTSTAMP:20130822T094426Z
DTSTART:20130910T063000Z
DTEND:20130910T080000Z
SUMMARY:Yoga
END:VEVENT
END:VCALENDAR
