BEGIN:VCALENDAR
VERSION:2.0
PRODID:-//Squarespace Inc/Squarespace 6//v6//EN
BEGIN:VEVENT
UID:5215dc72e4b069b81519fe22@squarespace.com
DTSTAMP:20130822T094028Z
DTSTART:20130914T223000Z
DTEND:20130915T000000Z
SUMMARY:Yoga
END:VEVENT
END:VCALENDAR
