BEGIN:VCALENDAR
VERSION:2.0
PRODID:-//Squarespace Inc/Squarespace 6//v6//EN
BEGIN:VEVENT
UID:5215dd62e4b0a9e95ce21999@squarespace.com
DTSTAMP:20130822T094445Z
DTSTART:20130917T063000Z
DTEND:20130917T080000Z
SUMMARY:Yoga
END:VEVENT
END:VCALENDAR
