BEGIN:VCALENDAR
VERSION:2.0
PRODID:-//Squarespace Inc/Squarespace 6//v6//EN
BEGIN:VEVENT
UID:5215dda4e4b01820fd26023a@squarespace.com
DTSTAMP:20130822T094518Z
DTSTART:20130924T063000Z
DTEND:20130924T080000Z
SUMMARY:Yoga
END:VEVENT
END:VCALENDAR
