BEGIN:VCALENDAR
VERSION:2.0
PRODID:-//Squarespace Inc/Squarespace 6//v6//EN
BEGIN:VEVENT
UID:523fc7cbe4b0b15602e87ace@squarespace.com
DTSTAMP:20130923T061135Z
DTSTART:20130928T020000Z
DTEND:20130928T050000Z
SUMMARY:Louise Potiki-Bryant:  - Adults & Teens Dance Class
END:VEVENT
END:VCALENDAR
