BEGIN:VCALENDAR
VERSION:2.0
PRODID:-//Squarespace Inc/Squarespace 6//v6//EN
BEGIN:VEVENT
UID:5215dcc1e4b0ccd55f4b54ba@squarespace.com
DTSTAMP:20130822T094148Z
DTSTART:20130928T213000Z
DTEND:20130928T230000Z
SUMMARY:Yoga
END:VEVENT
END:VCALENDAR
