BEGIN:VCALENDAR
VERSION:2.0
PRODID:-//Squarespace Inc/Squarespace 6//v6//EN
BEGIN:VEVENT
UID:5215dd16e4b0af0a313550e3@squarespace.com
DTSTAMP:20130822T094315Z
DTSTART:20130903T063000Z
DTEND:20130903T080000Z
SUMMARY:Yoga
END:VEVENT
END:VCALENDAR
