BEGIN:VCALENDAR
VERSION:2.0
PRODID:-//Squarespace Inc/Squarespace 6//v6//EN
BEGIN:VEVENT
UID:5215ddd2e4b0563499d8e012@squarespace.com
DTSTAMP:20130822T094622Z
DTSTART:20130906T070000Z
DTEND:20130906T090000Z
SUMMARY:R&R meeting
END:VEVENT
END:VCALENDAR
