BEGIN:VCALENDAR
VERSION:2.0
PRODID:-//Squarespace Inc/Squarespace 6//v6//EN
BEGIN:VEVENT
UID:5215dc46e4b069b81519fdfb@squarespace.com
DTSTAMP:20130822T093946Z
DTSTART:20130907T223000Z
DTEND:20130908T000000Z
SUMMARY:Yoga
END:VEVENT
END:VCALENDAR
