BEGIN:VCALENDAR
VERSION:2.0
PRODID:-//Squarespace Inc/Squarespace 6//v6//EN
BEGIN:VEVENT
UID:52d70550e4b09a1f1b09cd45@squarespace.com
DTSTAMP:20140115T220344Z
DTSTART:20140113T210000Z
DTEND:20140114T010000Z
SUMMARY:Kids Clay Class
END:VEVENT
END:VCALENDAR
