BEGIN:VCALENDAR
VERSION:2.0
PRODID:-//Squarespace Inc/Squarespace 6//v6//EN
BEGIN:VEVENT
UID:52d705dae4b0485536ab6d52@squarespace.com
DTSTAMP:20140115T220415Z
DTSTART:20140114T210000Z
DTEND:20140115T010000Z
SUMMARY:Kids Clay Class
END:VEVENT
END:VCALENDAR
