BEGIN:VCALENDAR
VERSION:2.0
PRODID:-//Squarespace Inc/Squarespace 6//v6//EN
BEGIN:VEVENT
UID:528be31ae4b029957bacb241@squarespace.com
DTSTAMP:20140106T071806Z
DTSTART:20140117T210000Z
DTEND:20140117T220000Z
SUMMARY:PCCS AGM
END:VEVENT
END:VCALENDAR
