BEGIN:VCALENDAR
VERSION:2.0
PRODID:-//Squarespace Inc/Squarespace 6//v6//EN
BEGIN:VEVENT
UID:52d702d8e4b00cdc64493d4e@squarespace.com
DTSTAMP:20140115T215346Z
DTSTART:20140118T213000Z
DTEND:20140118T230000Z
SUMMARY:Yoga
END:VEVENT
END:VCALENDAR
