BEGIN:VCALENDAR
VERSION:2.0
PRODID:-//Squarespace Inc/Squarespace 6//v6//EN
BEGIN:VEVENT
UID:52d70313e4b01cea685fc99e@squarespace.com
DTSTAMP:20140115T215328Z
DTSTART:20140121T053000Z
DTEND:20140121T070000Z
SUMMARY:Yoga
END:VEVENT
END:VCALENDAR
