BEGIN:VCALENDAR
VERSION:2.0
PRODID:-//Squarespace Inc/Squarespace 6//v6//EN
BEGIN:VEVENT
UID:52e2da69e4b013732d5fbf3f@squarespace.com
DTSTAMP:20140124T213109Z
DTSTART:20140214T210000Z
DTEND:20140214T223000Z
SUMMARY:Kids Drawing & Painting Class
END:VEVENT
END:VCALENDAR
