BEGIN:VCALENDAR
VERSION:2.0
PRODID:-//Squarespace Inc/Squarespace 6//v6//EN
BEGIN:VEVENT
UID:52e2dcbee4b004adfb5557bf@squarespace.com
DTSTAMP:20140124T214112Z
DTSTART:20140213T030000Z
DTEND:20140213T043000Z
SUMMARY:Who In The World Am I?
END:VEVENT
END:VCALENDAR
