BEGIN:VCALENDAR
VERSION:2.0
PRODID:-//Squarespace Inc/Squarespace 6//v6//EN
BEGIN:VEVENT
UID:52d7038fe4b07ee3a1c30b36@squarespace.com
DTSTAMP:20140115T215440Z
DTSTART:20140128T053000Z
DTEND:20140128T070000Z
SUMMARY:Yoga
END:VEVENT
END:VCALENDAR
