BEGIN:VCALENDAR
VERSION:2.0
PRODID:-//Squarespace Inc/Squarespace 6//v6//EN
BEGIN:VEVENT
UID:528bdfa3e4b0b66670e48ac6@squarespace.com
DTSTAMP:20131119T220709Z
DTSTART:20140107T210000Z
DTEND:20140107T230000Z
SUMMARY:Life Drawing
END:VEVENT
END:VCALENDAR
