BEGIN:VCALENDAR
VERSION:2.0
PRODID:-//Squarespace Inc/Squarespace 6//v6//EN
BEGIN:VEVENT
UID:528be1fee4b0d32bd54b39e2@squarespace.com
DTSTAMP:20131119T221140Z
DTSTART:20140131T210000Z
DTEND:20140201T100000Z
SUMMARY:Private Booking
END:VEVENT
END:VCALENDAR
