BEGIN:VCALENDAR
VERSION:2.0
PRODID:-//Squarespace Inc/Squarespace 6//v6//EN
BEGIN:VEVENT
UID:52d70478e4b060d6f0a21a04@squarespace.com
DTSTAMP:20140115T215829Z
DTSTART:20140211T053000Z
DTEND:20140211T070000Z
SUMMARY:Yoga
END:VEVENT
END:VCALENDAR
