BEGIN:VCALENDAR
VERSION:2.0
PRODID:-//Squarespace Inc/Squarespace 6//v6//EN
BEGIN:VEVENT
UID:528be230e4b042775962d72b@squarespace.com
DTSTAMP:20131119T221225Z
DTSTART:20140213T210000Z
DTEND:20140214T100000Z
SUMMARY:Private Booking
END:VEVENT
END:VCALENDAR
