BEGIN:VCALENDAR
VERSION:2.0
PRODID:-//Squarespace Inc/Squarespace 6//v6//EN
BEGIN:VEVENT
UID:52d70419e4b065c7c0eb647c@squarespace.com
DTSTAMP:20140115T215705Z
DTSTART:20140215T213000Z
DTEND:20140215T230000Z
SUMMARY:Yoga
END:VEVENT
END:VCALENDAR
