BEGIN:VCALENDAR
VERSION:2.0
PRODID:-//Squarespace Inc/Squarespace 6//v6//EN
BEGIN:VEVENT
UID:52d704c8e4b060d6f0a21a9c@squarespace.com
DTSTAMP:20140115T215946Z
DTSTART:20140218T053000Z
DTEND:20140218T070000Z
SUMMARY:Yoga
END:VEVENT
END:VCALENDAR
