BEGIN:VCALENDAR
VERSION:2.0
PRODID:-//Squarespace Inc/Squarespace 6//v6//EN
BEGIN:VEVENT
UID:52d703d3e4b07ee3a1c30bb9@squarespace.com
DTSTAMP:20140115T215546Z
DTSTART:20140201T213000Z
DTEND:20140201T230000Z
SUMMARY:Yoga
END:VEVENT
END:VCALENDAR
