BEGIN:VCALENDAR
VERSION:2.0
PRODID:-//Squarespace Inc/Squarespace 6//v6//EN
BEGIN:VEVENT
UID:52e2dd51e4b077b756dcee83@squarespace.com
DTSTAMP:20140124T213848Z
DTSTART:20140220T030000Z
DTEND:20140220T043000Z
SUMMARY:Who in the world am I?
END:VEVENT
END:VCALENDAR
