BEGIN:VCALENDAR
VERSION:2.0
PRODID:-//Squarespace Inc/Squarespace 6//v6//EN
BEGIN:VEVENT
UID:528be258e4b01f10c845cad9@squarespace.com
DTSTAMP:20131119T221251Z
DTSTART:20140220T210000Z
DTEND:20140221T100000Z
SUMMARY:Private Booking
END:VEVENT
END:VCALENDAR
