BEGIN:VCALENDAR
VERSION:2.0
PRODID:-//Squarespace Inc/Squarespace 6//v6//EN
BEGIN:VEVENT
UID:52e2dbace4b0ccd107aa2f03@squarespace.com
DTSTAMP:20140124T213142Z
DTSTART:20140221T210000Z
DTEND:20140221T223000Z
SUMMARY:Kids Drawing & Painting Class
END:VEVENT
END:VCALENDAR
