BEGIN:VCALENDAR
VERSION:2.0
PRODID:-//Squarespace Inc/Squarespace 6//v6//EN
BEGIN:VEVENT
UID:52d7043fe4b060d6f0a21986@squarespace.com
DTSTAMP:20140115T215732Z
DTSTART:20140222T213000Z
DTEND:20140222T230000Z
SUMMARY:Yoga
END:VEVENT
END:VCALENDAR
