BEGIN:VCALENDAR
VERSION:2.0
PRODID:-//Squarespace Inc/Squarespace 6//v6//EN
BEGIN:VEVENT
UID:52e2dd77e4b05e3f872e8e66@squarespace.com
DTSTAMP:20140124T214208Z
DTSTART:20140227T030000Z
DTEND:20140227T043000Z
SUMMARY:Who in the world am I?
END:VEVENT
END:VCALENDAR
