BEGIN:VCALENDAR
VERSION:2.0
PRODID:-//Squarespace Inc/Squarespace 6//v6//EN
BEGIN:VEVENT
UID:52d7045ae4b060d6f0a219b4@squarespace.com
DTSTAMP:20140115T215802Z
DTSTART:20140204T053000Z
DTEND:20140204T070000Z
SUMMARY:Yoga
END:VEVENT
END:VCALENDAR
