BEGIN:VCALENDAR
VERSION:2.0
PRODID:-//Squarespace Inc/Squarespace 6//v6//EN
BEGIN:VEVENT
UID:52d703f2e4b07ee3a1c30bff@squarespace.com
DTSTAMP:20140115T215624Z
DTSTART:20140208T213000Z
DTEND:20140208T230000Z
SUMMARY:Yoga
END:VEVENT
END:VCALENDAR
