BEGIN:VCALENDAR
VERSION:2.0
PRODID:-//Squarespace Inc/Squarespace 6//v6//EN
BEGIN:VEVENT
UID:52e2dbcde4b0052c493db181@squarespace.com
DTSTAMP:20140124T213226Z
DTSTART:20140228T210000Z
DTEND:20140228T223000Z
SUMMARY:Kids Drawing & Painting Class
END:VEVENT
END:VCALENDAR
