BEGIN:VCALENDAR
VERSION:2.0
PRODID:-//Squarespace Inc/Squarespace 6//v6//EN
BEGIN:VEVENT
UID:52ec2928e4b07e4a6ee0cdb0@squarespace.com
DTSTAMP:20140131T225236Z
DTSTART:20140311T053000Z
DTEND:20140311T070000Z
SUMMARY:Yoga
END:VEVENT
END:VCALENDAR
