BEGIN:VCALENDAR
VERSION:2.0
PRODID:-//Squarespace Inc/Squarespace 6//v6//EN
BEGIN:VEVENT
UID:52e2de44e4b0a3c852bdba40@squarespace.com
DTSTAMP:20140124T214250Z
DTSTART:20140313T030000Z
DTEND:20140313T043000Z
SUMMARY:Who in the world am I?
END:VEVENT
END:VCALENDAR
