BEGIN:VCALENDAR
VERSION:2.0
PRODID:-//Squarespace Inc/Squarespace 6//v6//EN
BEGIN:VEVENT
UID:52e2dc1fe4b09261a16ac7d2@squarespace.com
DTSTAMP:20140124T213354Z
DTSTART:20140314T210000Z
DTEND:20140314T223000Z
SUMMARY:Kids Drawing & Painting Class
END:VEVENT
END:VCALENDAR
