BEGIN:VCALENDAR
VERSION:2.0
PRODID:-//Squarespace Inc/Squarespace 6//v6//EN
BEGIN:VEVENT
UID:52ec28a9e4b07e4a6ee0ccb3@squarespace.com
DTSTAMP:20140131T225025Z
DTSTART:20140315T213000Z
DTEND:20140315T230000Z
SUMMARY:Yoga
END:VEVENT
END:VCALENDAR
